BEGIN:VCALENDAR
VERSION:2.0
PRODID:-//Tukios.com/
BEGIN:VEVENT
UID:6a0ff15b-c490-492f-aa03-fbeb6d9a22a8@www.royalcolemanfuneralhome.com
DTSTAMP:20260424T015011Z
DTSTART:20260428T234500Z
DTEND:20260429T004500Z
SUMMARY:Rosary
DESCRIPTION:Led by Knights of Columbus 6037
URL:https://www.royalcolemanfuneralhome.com/obituaries/edward-shelatz
LOCATION: 6028 U.S. Highway 6  Linesville PA 16424
GEO:41.6564918;-80.4096566
END:VEVENT
END:VCALENDAR