BEGIN:VCALENDAR
VERSION:2.0
PRODID:-//Tukios.com/
BEGIN:VEVENT
UID:de8c852b-8bea-458e-a428-e00d47cd8da9@www.royalcolemanfuneralhome.com
DTSTAMP:20260424T014823Z
DTSTART:20260429T150000Z
DTEND:20260429T160000Z
SUMMARY:Mass
DESCRIPTION:
URL:https://www.royalcolemanfuneralhome.com/obituaries/edward-shelatz
LOCATION:St. Philip Roman Catholic Church 401 South Mercer Street  
	Linesville PA 16424
GEO:41.6514726;-80.4253064
END:VEVENT
END:VCALENDAR