BEGIN:VCALENDAR
VERSION:2.0
PRODID:-//Tukios.com/
BEGIN:VEVENT
UID:e73dc4d2-e62a-443c-934e-28c481489db1@www.royalcolemanfuneralhome.com
DTSTAMP:20260424T015503Z
DTSTART:20260429T140000Z
DTEND:20260429T143000Z
SUMMARY:Visitation
DESCRIPTION:
URL:https://www.royalcolemanfuneralhome.com/obituaries/edward-shelatz
LOCATION:Royal-Coleman Funeral Home 6028 U.S. 6  Linesville PA 16424
GEO:41.6564918;-80.4096566
END:VEVENT
END:VCALENDAR