BEGIN:VCALENDAR
VERSION:2.0
PRODID:-//Tukios.com/
BEGIN:VEVENT
UID:68980632-c902-47d5-8479-75cbe10ff8f2@www.royalcolemanfuneralhome.com
DTSTAMP:20260424T015010Z
DTSTART:20260428T200000Z
DTEND:20260429T000000Z
SUMMARY:Visitation
DESCRIPTION:
URL:https://www.royalcolemanfuneralhome.com/obituaries/edward-shelatz
LOCATION:Royal-Coleman Funeral Home 6028 U.S. 6  Linesville PA 16424
GEO:41.6564918;-80.4096566
END:VEVENT
END:VCALENDAR