BEGIN:VCALENDAR
VERSION:2.0
PRODID:-//Tukios.com/
BEGIN:VEVENT
UID:1432d165-510d-4db5-88fa-8932a150590f@www.royalcolemanfuneralhome.com
DTSTAMP:20260422T042722Z
DTSTART:20260626T150000Z
DTEND:20260626T160000Z
SUMMARY:Mass
DESCRIPTION:
URL:https://www.royalcolemanfuneralhome.com/obituaries/amelia-gibson
LOCATION:St. Philip Roman Catholic Church 401 South Mercer Street  
	Linesville PA 16424
GEO:41.6514726;-80.4253064
END:VEVENT
END:VCALENDAR