BEGIN:VCALENDAR
VERSION:2.0
PRODID:-//Tukios.com/
BEGIN:VEVENT
UID:b2b61a1d-c6ab-4b84-8c9f-f046e6ec4104@www.royalcolemanfuneralhome.com
DTSTAMP:20260422T042443Z
DTSTART:20260626T140000Z
DTEND:20260626T150000Z
SUMMARY:Visitation
DESCRIPTION:
URL:https://www.royalcolemanfuneralhome.com/obituaries/amelia-gibson
LOCATION:St. Philip Roman Catholic Church 401 South Mercer Street  
	Linesville PA 16424
GEO:41.6514726;-80.4253064
END:VEVENT
END:VCALENDAR